BEGIN:VCALENDAR
VERSION:2.0
PRODID:-//Collat Jewish Family Services | Caring for Every Generation - ECPv6.15.20//NONSGML v1.0//EN
CALSCALE:GREGORIAN
METHOD:PUBLISH
X-WR-CALNAME:Collat Jewish Family Services | Caring for Every Generation
X-ORIGINAL-URL:https://cjfsbham.org
X-WR-CALDESC:Events for Collat Jewish Family Services | Caring for Every Generation
REFRESH-INTERVAL;VALUE=DURATION:PT1H
X-Robots-Tag:noindex
X-PUBLISHED-TTL:PT1H
BEGIN:VTIMEZONE
TZID:America/Chicago
BEGIN:DAYLIGHT
TZOFFSETFROM:-0600
TZOFFSETTO:-0500
TZNAME:CDT
DTSTART:20250309T080000
END:DAYLIGHT
BEGIN:STANDARD
TZOFFSETFROM:-0500
TZOFFSETTO:-0600
TZNAME:CST
DTSTART:20251102T070000
END:STANDARD
BEGIN:DAYLIGHT
TZOFFSETFROM:-0600
TZOFFSETTO:-0500
TZNAME:CDT
DTSTART:20260308T080000
END:DAYLIGHT
BEGIN:STANDARD
TZOFFSETFROM:-0500
TZOFFSETTO:-0600
TZNAME:CST
DTSTART:20261101T070000
END:STANDARD
BEGIN:DAYLIGHT
TZOFFSETFROM:-0600
TZOFFSETTO:-0500
TZNAME:CDT
DTSTART:20270314T080000
END:DAYLIGHT
BEGIN:STANDARD
TZOFFSETFROM:-0500
TZOFFSETTO:-0600
TZNAME:CST
DTSTART:20271107T070000
END:STANDARD
END:VTIMEZONE
BEGIN:VEVENT
DTSTART;TZID=America/Chicago:20260422T100000
DTEND;TZID=America/Chicago:20260422T140000
DTSTAMP:20260422T103238
CREATED:20251017T193248Z
LAST-MODIFIED:20251017T193248Z
UID:10002546-1776852000-1776866400@cjfsbham.org
SUMMARY:CJFS CARES Respite Program
DESCRIPTION:At CJFS CARES (Caring for Adults through Respite\, Enrichment and Socialization) we understand the unique challenges faced by those living with movement and memory disorders such as Alzheimer’s\, dementia\, Parkinson’s\, or stroke. Our program is more than just a service; it’s a lifeline for participants and their caregivers. Designed to engage the mind\, body\, and spirit\, CJFS CARES offers a sanctuary of support\, enrichment\, and socialization. \nStrength in Community\, Joy in Connection \n\n\nHolistic Enrichment: Participants engage in activities like music and movement\, arts and crafts\, and brain games\, all thoughtfully designed to be cognitively\, physically\, and socially stimulating. \n\n\nRespite for Caregivers: While your loved one is enjoying their time at CARES\, you gain the precious opportunity to rest\, recharge\, and focus on your well-being. \n\n\n\nCJFS CARES is offered Mon–Thurs\, 10am–2pm \nFee is $45/day\, including a nutritious lunch \nClick here to visit\, enroll or learn more. \nOr contact Program Director\, Pam Leonardpam@cjfsbham.org or 205.879.3438
URL:https://cjfsbham.org/event/cjfs-cares-respite-program-3/2026-04-22/
LOCATION:St. Stephens Epsicopal Church\, 3775 Crosshaven Dr\,\, Vestavia Hills\, AL\, 35223\, United States
ATTACH;FMTTYPE=image/jpeg:https://cjfsbham.org/wp-content/uploads/2025/09/Photo-Jul-10-2024-2-08-05-PM-scaled.jpg
END:VEVENT
BEGIN:VEVENT
DTSTART;TZID=America/Chicago:20260423T100000
DTEND;TZID=America/Chicago:20260423T140000
DTSTAMP:20260422T103238
CREATED:20251017T193307Z
LAST-MODIFIED:20251017T193307Z
UID:10003068-1776938400-1776952800@cjfsbham.org
SUMMARY:CJFS CARES Respite Program
DESCRIPTION:At CJFS CARES (Caring for Adults through Respite\, Enrichment and Socialization) we understand the unique challenges faced by those living with movement and memory disorders such as Alzheimer’s\, dementia\, Parkinson’s\, or stroke. Our program is more than just a service; it’s a lifeline for participants and their caregivers. Designed to engage the mind\, body\, and spirit\, CJFS CARES offers a sanctuary of support\, enrichment\, and socialization. \nStrength in Community\, Joy in Connection \n\n\nHolistic Enrichment: Participants engage in activities like music and movement\, arts and crafts\, and brain games\, all thoughtfully designed to be cognitively\, physically\, and socially stimulating. \n\n\nRespite for Caregivers: While your loved one is enjoying their time at CARES\, you gain the precious opportunity to rest\, recharge\, and focus on your well-being. \n\n\n\nCJFS CARES is offered Mon–Thurs\, 10am–2pm \nFee is $45/day\, including a nutritious lunch \nClick here to visit\, enroll or learn more. \nOr contact Program Director\, Pam Leonardpam@cjfsbham.org or 205.879.3438
URL:https://cjfsbham.org/event/cjfs-cares-respite-program-4/2026-04-23/
LOCATION:St. Stephens Epsicopal Church\, 3775 Crosshaven Dr\,\, Vestavia Hills\, AL\, 35223\, United States
ATTACH;FMTTYPE=image/jpeg:https://cjfsbham.org/wp-content/uploads/2025/09/Photo-Jul-10-2024-2-08-05-PM-scaled.jpg
END:VEVENT
BEGIN:VEVENT
DTSTART;TZID=America/Chicago:20260427T100000
DTEND;TZID=America/Chicago:20260427T140000
DTSTAMP:20260422T103238
CREATED:20251017T192949Z
LAST-MODIFIED:20251017T193111Z
UID:10001764-1777284000-1777298400@cjfsbham.org
SUMMARY:CJFS CARES Respite Program
DESCRIPTION:At CJFS CARES (Caring for Adults through Respite\, Enrichment and Socialization) we understand the unique challenges faced by those living with movement and memory disorders such as Alzheimer’s\, dementia\, Parkinson’s\, or stroke. Our program is more than just a service; it’s a lifeline for participants and their caregivers. Designed to engage the mind\, body\, and spirit\, CJFS CARES offers a sanctuary of support\, enrichment\, and socialization. \nStrength in Community\, Joy in Connection \n\n\nHolistic Enrichment: Participants engage in activities like music and movement\, arts and crafts\, and brain games\, all thoughtfully designed to be cognitively\, physically\, and socially stimulating. \n\n\nRespite for Caregivers: While your loved one is enjoying their time at CARES\, you gain the precious opportunity to rest\, recharge\, and focus on your well-being. \n\n\n\nCJFS CARES is offered Mon–Thurs\, 10am–2pm \nFee is $45/day\, including a nutritious lunch \nClick here to visit\, enroll or learn more. \nOr contact Program Director\, Pam Leonardpam@cjfsbham.org or 205.879.3438
URL:https://cjfsbham.org/event/cjfs-cares-respite-program-2/2026-04-27/
LOCATION:St. Stephens Epsicopal Church\, 3775 Crosshaven Dr\,\, Vestavia Hills\, AL\, 35223\, United States
ATTACH;FMTTYPE=image/jpeg:https://cjfsbham.org/wp-content/uploads/2025/09/Photo-Jul-10-2024-2-08-05-PM-scaled.jpg
END:VEVENT
BEGIN:VEVENT
DTSTART;TZID=America/Chicago:20260427T150000
DTEND;TZID=America/Chicago:20260427T160000
DTSTAMP:20260422T103238
CREATED:20251028T160037Z
LAST-MODIFIED:20260127T193343Z
UID:10003803-1777302000-1777305600@cjfsbham.org
SUMMARY:CARES Dementia Caregiver Virtual Support Group
DESCRIPTION:CJFS CARES respite program holds a virtual support group weekly on Mondays @ 3pm.  Our groups create community and provide emotional support while offering guidance and strategies to cope with stress\, manage difficult behaviors\, and prioritize self-care. Call CARES Program Director\, Pam Leonard\, pam@cjfsbham.org or 205.879.3438 for more information. 
URL:https://cjfsbham.org/event/dementia-caregiver-virtual-support-group-2-2/2026-04-27/
LOCATION:Alabama
ATTACH;FMTTYPE=image/jpeg:https://cjfsbham.org/wp-content/uploads/2025/09/Photo-Jul-10-2024-10-02-12-AM-1-scaled.jpg
ORGANIZER;CN="CJFS":MAILTO:jfs@cjfsbham.org
END:VEVENT
BEGIN:VEVENT
DTSTART;TZID=America/Chicago:20260428T100000
DTEND;TZID=America/Chicago:20260428T140000
DTSTAMP:20260422T103238
CREATED:20251017T193220Z
LAST-MODIFIED:20251211T182352Z
UID:10002025-1777370400-1777384800@cjfsbham.org
SUMMARY:CJFS CARES Respite Program
DESCRIPTION:At CJFS CARES (Caring for Adults through Respite\, Enrichment and Socialization) we understand the unique challenges faced by those living with movement and memory disorders such as Alzheimer’s\, dementia\, Parkinson’s\, or stroke. Our program is more than just a service; it’s a lifeline for participants and their caregivers. Designed to engage the mind\, body\, and spirit\, CJFS CARES offers a sanctuary of support\, enrichment\, and socialization. \nStrength in Community\, Joy in Connection \n\n\nHolistic Enrichment: Participants engage in activities like music and movement\, arts and crafts\, and brain games\, all thoughtfully designed to be cognitively\, physically\, and socially stimulating. \n\n\nRespite for Caregivers: While your loved one is enjoying their time at CARES\, you gain the precious opportunity to rest\, recharge\, and focus on your well-being. \n\n\n\nCJFS CARES is offered Mon–Thurs\, 10am–2pm \nFee is $45/day\, including a nutritious lunch \nClick here to visit\, enroll or learn more. \nOr contact Program Director\, Pam Leonardpam@cjfsbham.org or 205.879.3438
URL:https://cjfsbham.org/event/cjfs-cares-respite-program/2026-04-28/
LOCATION:St. Stephens Epsicopal Church\, 3775 Crosshaven Dr\,\, Vestavia Hills\, AL\, 35223\, United States
ATTACH;FMTTYPE=image/jpeg:https://cjfsbham.org/wp-content/uploads/2025/09/Photo-Jul-10-2024-2-08-05-PM-scaled.jpg
END:VEVENT
BEGIN:VEVENT
DTSTART;TZID=America/Chicago:20260428T173000
DTEND;TZID=America/Chicago:20260428T190000
DTSTAMP:20260422T103238
CREATED:20260226T190150Z
LAST-MODIFIED:20260226T191108Z
UID:10005742-1777397400-1777402800@cjfsbham.org
SUMMARY:Hands Up Together - CJFS Annual Fundraiser
DESCRIPTION:Hands Up Together 2026\nCJFS and The Caring Foundation of Blue Cross and Blue Shield invite you to join us for Hands Up Together on April 28\, 2026 at The Grand Bohemian Hotel. This year we are celebrating “Living Well. Aging Well.” — a simple and powerful\, reflection of the impact of CJFS services on more than 750 families each year. \nCLICK HERE for TICKETS          CLICK HERE for SPONSORSHIP OPTIONS
URL:https://cjfsbham.org/event/hands-up-together-fundraiser-event/
LOCATION:The Grand Bohemian Hotel\, 2655 Lane Park Road\, Mountain Brook\, Alabama\, 35223
ORGANIZER;CN="CJFS":MAILTO:jfs@cjfsbham.org
END:VEVENT
BEGIN:VEVENT
DTSTART;TZID=America/Chicago:20260429T100000
DTEND;TZID=America/Chicago:20260429T140000
DTSTAMP:20260422T103238
CREATED:20251017T193248Z
LAST-MODIFIED:20251017T193248Z
UID:10002547-1777456800-1777471200@cjfsbham.org
SUMMARY:CJFS CARES Respite Program
DESCRIPTION:At CJFS CARES (Caring for Adults through Respite\, Enrichment and Socialization) we understand the unique challenges faced by those living with movement and memory disorders such as Alzheimer’s\, dementia\, Parkinson’s\, or stroke. Our program is more than just a service; it’s a lifeline for participants and their caregivers. Designed to engage the mind\, body\, and spirit\, CJFS CARES offers a sanctuary of support\, enrichment\, and socialization. \nStrength in Community\, Joy in Connection \n\n\nHolistic Enrichment: Participants engage in activities like music and movement\, arts and crafts\, and brain games\, all thoughtfully designed to be cognitively\, physically\, and socially stimulating. \n\n\nRespite for Caregivers: While your loved one is enjoying their time at CARES\, you gain the precious opportunity to rest\, recharge\, and focus on your well-being. \n\n\n\nCJFS CARES is offered Mon–Thurs\, 10am–2pm \nFee is $45/day\, including a nutritious lunch \nClick here to visit\, enroll or learn more. \nOr contact Program Director\, Pam Leonardpam@cjfsbham.org or 205.879.3438
URL:https://cjfsbham.org/event/cjfs-cares-respite-program-3/2026-04-29/
LOCATION:St. Stephens Epsicopal Church\, 3775 Crosshaven Dr\,\, Vestavia Hills\, AL\, 35223\, United States
ATTACH;FMTTYPE=image/jpeg:https://cjfsbham.org/wp-content/uploads/2025/09/Photo-Jul-10-2024-2-08-05-PM-scaled.jpg
END:VEVENT
BEGIN:VEVENT
DTSTART;TZID=America/Chicago:20260430T100000
DTEND;TZID=America/Chicago:20260430T140000
DTSTAMP:20260422T103238
CREATED:20251017T193307Z
LAST-MODIFIED:20251017T193307Z
UID:10003069-1777543200-1777557600@cjfsbham.org
SUMMARY:CJFS CARES Respite Program
DESCRIPTION:At CJFS CARES (Caring for Adults through Respite\, Enrichment and Socialization) we understand the unique challenges faced by those living with movement and memory disorders such as Alzheimer’s\, dementia\, Parkinson’s\, or stroke. Our program is more than just a service; it’s a lifeline for participants and their caregivers. Designed to engage the mind\, body\, and spirit\, CJFS CARES offers a sanctuary of support\, enrichment\, and socialization. \nStrength in Community\, Joy in Connection \n\n\nHolistic Enrichment: Participants engage in activities like music and movement\, arts and crafts\, and brain games\, all thoughtfully designed to be cognitively\, physically\, and socially stimulating. \n\n\nRespite for Caregivers: While your loved one is enjoying their time at CARES\, you gain the precious opportunity to rest\, recharge\, and focus on your well-being. \n\n\n\nCJFS CARES is offered Mon–Thurs\, 10am–2pm \nFee is $45/day\, including a nutritious lunch \nClick here to visit\, enroll or learn more. \nOr contact Program Director\, Pam Leonardpam@cjfsbham.org or 205.879.3438
URL:https://cjfsbham.org/event/cjfs-cares-respite-program-4/2026-04-30/
LOCATION:St. Stephens Epsicopal Church\, 3775 Crosshaven Dr\,\, Vestavia Hills\, AL\, 35223\, United States
ATTACH;FMTTYPE=image/jpeg:https://cjfsbham.org/wp-content/uploads/2025/09/Photo-Jul-10-2024-2-08-05-PM-scaled.jpg
END:VEVENT
END:VCALENDAR